BEGIN:VCALENDAR
VERSION:2.0
PRODID:icalendar-ruby
CALSCALE:GREGORIAN
METHOD:PUBLISH
BEGIN:VEVENT
DTSTAMP:20260421T101834Z
UID:431-327164@springviewcc.org
DTSTART:20260508T220000Z
DTEND:20260509T010000Z
CLASS:PUBLIC
CREATED:20260415T164355
DESCRIPTION:The word discipline often brings two ideas to mind: punishmen
 t and drudgery. Because of this\, when we connect discipline with spiritua
 lity\, it can easily create the impression of God’s wrath at worst\, or\
 , at best\, a series of dull\, repetitive actions meant to make us “more
  spiritual.”\nBut this is not God’s design for the spiritual disciplin
 es.\nGod’s desire is to make Himself known to us and to draw us into dee
 per communion with Him. Too often\, we miss this because we do not slow do
 wn long enough to understand His voice or listen to His leading. Spiritual
  disciplines are simply biblically guided practices that help us see our S
 avior more clearly and commune with Him more deeply.\nAs we faithfully eng
 age in these practices\, our hearts are shaped\, and our love for our Savi
 or continues to grow.\nJoin us Friday\, May 8th from 6-9pm to learn about 
 spiritual disciplines.  Sign up is active at the Welcome Center.
LAST-MODIFIED:20260415T164355
LOCATION:
SUMMARY:Adult Discipleship: Spiritual Disciplines
URL;VALUE=URI:https://www.springviewcc.org/events/adult-discipleship-spirit
 ual-disciplines/2026-05-08
ATTACH;FILENAME=Blue and Gray Minimalist Spiritual Church Retreat Flyer (2)
 .png;FMTTYPE=image/png:https://dq5pwpg1q8ru0.cloudfront.net/2026/04/08/19/
 00/50/a90e3ed4-4972-41fb-ac41-516dc5e4d8ef/Blue%20and%20Gray%20Minimalist%
 20Spiritual%20Church%20Retreat%20Flyer%20(2).png
END:VEVENT
END:VCALENDAR
