BEGIN:VCALENDAR
VERSION:2.0
PRODID:icalendar-ruby
CALSCALE:GREGORIAN
METHOD:PUBLISH
BEGIN:VEVENT
DTSTAMP:20260421T090334Z
UID:432-320132@springviewcc.org
DTSTART:20260524T140000Z
DTEND:20260524T153000Z
CLASS:PUBLIC
CREATED:20260409T103203
DESCRIPTION:
LAST-MODIFIED:20260409T103203
LOCATION:12881 ANDERSONVILLE RD\, P.O.BOX 164DAVISBURG 48350 MI
SUMMARY:Combined Sunday Morning Service
URL;VALUE=URI:https://www.springviewcc.org/events/combined-sunday-morning-s
 ervice--432/2026-05-24
ATTACH;FILENAME=Light the Way—Pray for VBS! (1).png;FMTTYPE=image/png:htt
 ps://dq5pwpg1q8ru0.cloudfront.net/2026/04/09/14/32/03/29611201-f777-42b8-9
 429-675de6baf336/Light%20the%20Way%E2%80%94Pray%20for%20VBS!%20(1).png
END:VEVENT
END:VCALENDAR
