BEGIN:VCALENDAR
VERSION:2.0
PRODID:icalendar-ruby
CALSCALE:GREGORIAN
METHOD:PUBLISH
BEGIN:VEVENT
DTSTAMP:20260422T182744Z
UID:310-334743@springviewcc.org
DTSTART:20260927T130000Z
DTEND:20260927T143000Z
CLASS:PUBLIC
CREATED:20260422T125912
DESCRIPTION:Sunday Service
LAST-MODIFIED:20260422T125912
LOCATION:
SUMMARY:Sunday Service
URL;VALUE=URI:https://www.springviewcc.org/events/sunday-service/2026-09-27
END:VEVENT
END:VCALENDAR
