BEGIN:VCALENDAR
VERSION:2.0
PRODID:icalendar-ruby
CALSCALE:GREGORIAN
METHOD:PUBLISH
BEGIN:VEVENT
DTSTAMP:20260422T213558Z
UID:310-334933@springviewcc.org
DTSTART:20261011T130000Z
DTEND:20261011T143000Z
CLASS:PUBLIC
CREATED:20260422T155405
DESCRIPTION:Sunday Service
LAST-MODIFIED:20260422T155405
LOCATION:
SUMMARY:Sunday Service
URL;VALUE=URI:https://www.springviewcc.org/events/sunday-service/2026-10-11
END:VEVENT
END:VCALENDAR
