BEGIN:VCALENDAR
VERSION:2.0
PRODID:icalendar-ruby
CALSCALE:GREGORIAN
METHOD:PUBLISH
BEGIN:VEVENT
DTSTAMP:20260423T005917Z
UID:310-335123@springviewcc.org
DTSTART:20261025T130000Z
DTEND:20261025T143000Z
CLASS:PUBLIC
CREATED:20260422T184745
DESCRIPTION:Sunday Service
LAST-MODIFIED:20260422T184745
LOCATION:
SUMMARY:Sunday Service
URL;VALUE=URI:https://www.springviewcc.org/events/sunday-service/2026-10-25
END:VEVENT
END:VCALENDAR
