BEGIN:VCALENDAR
VERSION:2.0
PRODID:icalendar-ruby
CALSCALE:GREGORIAN
METHOD:PUBLISH
BEGIN:VEVENT
DTSTAMP:20260423T022238Z
UID:310-335312@springviewcc.org
DTSTART:20261101T140000Z
DTEND:20261101T153000Z
CLASS:PUBLIC
CREATED:20260422T214005
DESCRIPTION:Sunday Service
LAST-MODIFIED:20260422T214005
LOCATION:
SUMMARY:Sunday Service
URL;VALUE=URI:https://www.springviewcc.org/events/sunday-service/2026-11-01
END:VEVENT
END:VCALENDAR
